BEGIN:VCALENDAR
VERSION:2.0
PRODID:-//Discoteca Chasis - ECPv6.15.20//NONSGML v1.0//EN
CALSCALE:GREGORIAN
METHOD:PUBLISH
X-WR-CALNAME:Discoteca Chasis
X-ORIGINAL-URL:https://www.discotecachasis.com
X-WR-CALDESC:Eventos para Discoteca Chasis
REFRESH-INTERVAL;VALUE=DURATION:PT1H
X-Robots-Tag:noindex
X-PUBLISHED-TTL:PT1H
BEGIN:VTIMEZONE
TZID:Europe/Madrid
BEGIN:DAYLIGHT
TZOFFSETFROM:+0100
TZOFFSETTO:+0200
TZNAME:CEST
DTSTART:20250330T010000
END:DAYLIGHT
BEGIN:STANDARD
TZOFFSETFROM:+0200
TZOFFSETTO:+0100
TZNAME:CET
DTSTART:20251026T010000
END:STANDARD
BEGIN:DAYLIGHT
TZOFFSETFROM:+0100
TZOFFSETTO:+0200
TZNAME:CEST
DTSTART:20260329T010000
END:DAYLIGHT
BEGIN:STANDARD
TZOFFSETFROM:+0200
TZOFFSETTO:+0100
TZNAME:CET
DTSTART:20261025T010000
END:STANDARD
BEGIN:DAYLIGHT
TZOFFSETFROM:+0100
TZOFFSETTO:+0200
TZNAME:CEST
DTSTART:20270328T010000
END:DAYLIGHT
BEGIN:STANDARD
TZOFFSETFROM:+0200
TZOFFSETTO:+0100
TZNAME:CET
DTSTART:20271031T010000
END:STANDARD
END:VTIMEZONE
BEGIN:VEVENT
DTSTART;TZID=Europe/Madrid:20260430T213000
DTEND;TZID=Europe/Madrid:20260501T060000
DTSTAMP:20260422T124426
CREATED:20260308T154435Z
LAST-MODIFIED:20260422T103116Z
UID:4195-1777584600-1777615200@www.discotecachasis.com
SUMMARY:Vuelve la Fiebre - Fiebre de Abril 2026
DESCRIPTION:Vuelve la Fiebre – Fiebre de Abril 2026				\n				\n				\n							\n			\n						\n		\n						\n				\n							\n			 Días Horas Minutos Segundos		\n						\n					YA PASAMOS LA FIEBRE!!!				\n								\n				\n		\n					\n		\n				\n				\n					\n	\n				\n				\n				\n		\n		\n				\n					FECHA y HORA				\n				\n				\n					\n		\n			30 abril\, 2026\n\n		\n	\n	  -  \n\n	1 mayo\, 2026\n\n	\n				\n				\n				\n					Víspera de festivo (1 de Mayo)				\n				\n		\n				\n					APERTURA				\n				\n				\n					\n		\n		\n\n\n21:30\n\n	\n\n		\n\n\n\n	\n	  -  \n\n06:00\n\n\n\n	\n				\n				\n				\n		\n				\n					lugar				\n				\n				\n					\n				\n				\n	\n	Sala Vinilo\n	\n	\n\nCarrer Córdoba 40\n	\n		\n		Terrassa\,\n\n	Barcelona\n\n	08226\n\n	Spain\n\n\n\n\n\n	\n					\n						\n	 \n\n\n\n	\n\n\n\n		\n	\n				\n				\n				\n		\n				\n					Dress Code				\n				\n					CUIDA TU LOOK				\n				\n		\n				\n					ENTRADAS ANTICIPADAS A PARTIR DEL 9 de MARZO				\n				\n									Las primeras entradas están disponibles a precio reducido. Consigue la tuya antes de que suban de precio. 								\n				\n										\n						\n						\n							\n									COMPRAR ENTRADA\n					\n					\n								\n				\n				\n					\n				\n		\n					\n				\n					Media Partners
URL:https://www.discotecachasis.com/event/vuelve-la-fiebre-2026/
LOCATION:Sala Vinilo\, Carrer Córdoba 40\, Terrassa\, Barcelona\, 08226\, Spain
ATTACH;FMTTYPE=image/webp:https://www.discotecachasis.com/wp-content/uploads/2026/03/FIEBRE-DE-ABRIL-CHASIS-2026-START.webp
ORGANIZER;CN="PANORAMA GROUP":MAILTO:info@discotecachasis.com
END:VEVENT
END:VCALENDAR